BEGIN:VCALENDAR
VERSION:2.0
PRODID:-//ChamberMaster//Event Calendar 2.0//EN
METHOD:PUBLISH
X-PUBLISHED-TTL:P3D
REFRESH-INTERVAL:P3D
CALSCALE:GREGORIAN
BEGIN:VEVENT
DTSTART:20221209T010000Z
DTEND:20221209T030000Z
X-MICROSOFT-CDO-ALLDAYEVENT:FALSE
SUMMARY:Whistler Chamber 2022 AGM and Member Appreciation Festive Après
DESCRIPTION:Please note: Online registration for this event is now closed. If you would like to attend\, please email marketing@whistlerchamber.com. \n\n\n\nJoin us to kick off the winter season in style with a classic festive apr s\; enjoy a glass of bubbly\, sample delicious nibbles\, meet your new board members\, have your questions answered\, and connect in-person with Whistler's  business community.\n\n\n\nAGM\n\nAs a result of the Director vacancies that will be created at the end of 2022\, the Whistler Chamber of Commerce\, in accordance with its By-laws\, sought nominees for Board of Director positions. Nominations were accepted from October 4 until 5pm on October 14\, 2022. The Whistler Chamber board has six Director positions to fill and received six nominations in total.\n\n\n\nThe formal business of the Annual General Meeting will include the report of the Board\, consideration of the financial statements and the appointment of the accountant.  The membership at large will also meet the Members who will represent the Whistler business community in 2023 as their board of directors. There will be reports from both the Board and the Executive Director.\n\n\n\nNotice of AGM (and accompanying documents)\n\nMeet the board of directors
X-ALT-DESC;FMTTYPE=text/html:<em><span style="font-size:16px\;"><strong>Please note: Online registration for this event is now closed. If you would like to attend\, please email <a href="mailto:marketing@whistlerchamber.com?subject=Registration%20Request%3A%20Chamber%20AGM%20%26%20Member%20Appreciation%20Apr%C3%A8s">marketing@whistlerchamber.com</a>.&nbsp\;</strong></span></em><br />\n<br />\nJoin us to kick off the winter season in style with a classic festive apr&egrave\;s\; enjoy a glass of bubbly\, sample delicious nibbles\, meet your new board members\, have your questions answered\, and connect in-person with Whistler&#39\;s&nbsp\; business community.<br />\n<br />\n<strong>AGM</strong><br />\nAs a result of the Director vacancies that will be created at the end of 2022\, the Whistler Chamber of Commerce\, in accordance with its By-laws\, sought nominees for Board of Director positions. Nominations were accepted from October 4 until 5pm on October 14\, 2022. The Whistler Chamber board has six Director positions to fill and received six nominations in total.<br />\n<br />\nThe formal business of the Annual General Meeting will include the report of the Board\, consideration of the financial statements and the appointment of the accountant.&nbsp\; The membership at large will also meet the Members who will represent the Whistler business community in 2023 as their board of directors. There will be reports from both the Board and the Executive Director.<br />\n<br />\n<a href="http://www.whistlerchamber.com/about-whistler-chamber/2022-notice-of-agm/">Notice of AGM (and accompanying documents)</a><br />\n<a href="https://www.whistlerchamber.com/about-whistler-chamber/board-of-directors/" target="_blank">Meet the board of directors</a>
LOCATION:Hilton Whistler Resort & Spa
UID:e.2416.2224
SEQUENCE:3
DTSTAMP:20260422T044903Z
URL:https://business.whistlerchamber.com/events/details/whistler-chamber-2022-agm-and-member-appreciation-festive-apr&#232;s-2224
END:VEVENT

END:VCALENDAR
