BEGIN:VCALENDAR
VERSION:2.0
PRODID:-//ChamberMaster//Event Calendar 2.0//EN
METHOD:PUBLISH
X-PUBLISHED-TTL:P3D
REFRESH-INTERVAL:P3D
CALSCALE:GREGORIAN
BEGIN:VEVENT
DTSTART:20251121T020000Z
DTEND:20251121T040000Z
X-MICROSOFT-CDO-ALLDAYEVENT:FALSE
SUMMARY:WE Go BIG! CULTURE LIVE at the Squamish Lil'wat Cultural Centre - You could win a brand new snowboard or skis!
DESCRIPTION:WE Go BIG! CULTURE LIVE at the Squamish Lil'wat Cultural Centre (SLCC)\n\nLocation: 4584 Blackcomb Way\, Whistler\, BC\n\n(Recommended for Whistler newcomers)\n\nThe WE Go BIG! LIVE sessions prepare participants for life and work in Whistler while setting the stage for exceptional guest service   in a way only an in-person experience can.\n\nJoin us for this in-person WE Go BIG! Culture LIVE at the Squamish Lil'wat Cultural Centre. Enjoy light nibbles and the chance to win prizes\, including branded swag and a set of skis or snowboard from local manufacturer\, PRIOR Snowboards & Skis!\n\nAgenda (subject to change):\n\n6:00 PM Registration\n\n6:30 PM Training Presentation & Prizes\n\n7:15 PM Networking & PRIOR Giveaway\n\n8:00 PM Event End\n\nTraining begins with the Whistler Vibe   the pride\, energy\, and belonging that make Whistler extraordinary. Participants explore the BIG model (Belong\, Initiate\, Go Beyond) through live scenarios\, peer conversations\, and stories from local voices.\n\nOnce complete\, you'll understand how to build pride and belonging\, practice the BIG model in real-world scenarios\, and leave energized to create unforgettable guest moments.\n\nMust be present to win prizes.
X-ALT-DESC;FMTTYPE=text/html:<p data-end="373" data-start="211"><span style="font-size:18px\;"><strong data-end="285" data-start="211">WE Go BIG! CULTURE LIVE at the Squamish Lil&#39\;wat Cultural Centre (SLCC)</strong></span><br data-end="288" data-start="285" />\n<strong data-end="301" data-start="288">Location:</strong> 4584 Blackcomb Way\, Whistler\, BC<br data-end="337" data-start="334" />\n(Recommended for Whistler newcomers)</p>\n\n<p data-end="555" data-start="375">The WE Go BIG! LIVE sessions prepare participants for life and work in Whistler while setting the stage for exceptional guest service &mdash\; in a way only an in-person experience can.</p>\n\n<p data-end="804" data-start="557">Join us for this in-person WE Go BIG! Culture LIVE at the Squamish Lil&#39\;wat Cultural Centre. Enjoy light nibbles and the chance to win prizes\, including branded swag and a set of skis or snowboard from local manufacturer\, PRIOR Snowboards &amp\; Skis!</p>\n\n<p data-end="961" data-start="806"><strong data-end="837" data-start="806">Agenda (subject to change):</strong><br data-end="840" data-start="837" />\n6:00 PM Registration<br data-end="863" data-start="860" />\n6:30 PM Training Presentation &amp\; Prizes<br data-end="904" data-start="901" />\n7:15 PM Networking &amp\; PRIOR Giveaway<br data-end="942" data-start="939" />\n8:00 PM Event End</p>\n\n<p data-end="1212" data-start="963">Training begins with the Whistler Vibe &mdash\; the pride\, energy\, and belonging that make Whistler extraordinary. Participants explore the BIG model (Belong\, Initiate\, Go Beyond) through live scenarios\, peer conversations\, and stories from local voices.</p>\n\n<p data-end="1389" data-start="1214">Once complete\, you&rsquo\;ll understand how to build pride and belonging\, practice the BIG model in real-world scenarios\, and leave energized to create unforgettable guest moments.</p>\n\n<p data-end="1539" data-start="1505"><strong data-end="1539" data-start="1505">Must be present to win prizes.</strong></p>\n\n<div and="" at="" awesome="" been="" div="" face="Arial\,sans-serif" font="" font-size:="" job="" margin:="" promoted="" segoe="" size="2" span="" style="text-align: center\;" to="" ui="" your="">&nbsp\;</div>\n
LOCATION:In Person in Whistler
UID:e.2416.2864
SEQUENCE:3
DTSTAMP:20260419T130908Z
URL:https://business.whistlerchamber.com/events/details/we-go-big-culture-live-at-the-squamish-lil-wat-cultural-centre-you-could-win-a-brand-new-snowboard-or-skis-2864
END:VEVENT

END:VCALENDAR
