BEGIN:VCALENDAR
VERSION:2.0
PRODID:-//ChamberMaster//Event Calendar 2.0//EN
METHOD:PUBLISH
X-PUBLISHED-TTL:P3D
REFRESH-INTERVAL:P3D
CALSCALE:GREGORIAN
BEGIN:VEVENT
DTSTART:20220615T170000Z
DTEND:20220615T180000Z
X-MICROSOFT-CDO-ALLDAYEVENT:FALSE
SUMMARY:Virtual Meeting: Membership 101
DESCRIPTION:Whether you're a long-time Chamber Member or considering becoming one for the first time\, our Membership 101 events provide a great introduction (or refresher) to how your Chamber is working for you and how you can save time and money with membership.\n\n \n\nAs a Member of the Whistler Chamber\, you have access to tools to help your business succeed. Our goal is to ensure you're familiar with your benefits and how the Chamber can offer support.\n\n \n\nJoin us for an introductory session to meet the Whistler Chamber team and understand how you can get the most out of your membership.\n\n \n\nLearn about:\n\n	Chamber advocacy & policy work \n	Membership benefits and discounts \n	Training & events\n	Promotional opportunities\n	Navigating our website & logging into the Member portal\n	How to save money with your membership\n\nThis is a meeting style event\, so attendees cameras and microphones will be on. There will be an opportunity to ask questions live and using the chat feature in Zoom.
X-ALT-DESC;FMTTYPE=text/html:<span style="color:#000000\;"><span style="font-size:14px\;"><span style="font-family:arial\;"><strong><em>Whether you&rsquo\;re a long-time Chamber Member or considering becoming one for the first time\, our Membership 101 events provide a great introduction (or refresher) to how your Chamber is working for you and how you can save time and money with membership.</em></strong></span></span></span><br />\n<span style="color:#000000\;"><span style="font-size:14px\;"><span style="font-family:arial\;">&nbsp\;<br />\nAs a Member of the Whistler Chamber\, you have access to tools to help your business succeed. Our goal is to ensure you&rsquo\;re familiar with your benefits and how the Chamber can offer support.<br />\n&nbsp\;<br />\nJoin us for an introductory session to meet the Whistler Chamber team and understand how you can get the most out of your membership.<br />\n&nbsp\;<br />\nLearn about:</span></span></span>\n<ul>\n	<li><span style="color:#000000\;"><span style="font-family:arial\;"><span style="font-size:14px\;">Chamber advocacy &amp\; policy work </span></span></span></li>\n	<li><span style="color:#000000\;"><span style="font-family:arial\;"><span style="font-size:14px\;">Membership benefits and discounts </span></span></span></li>\n	<li><span style="color:#000000\;"><span style="font-family:arial\;"><span style="font-size:14px\;">Training &amp\; events</span></span></span></li>\n	<li><span style="color:#000000\;"><span style="font-family:arial\;"><span style="font-size:14px\;">Promotional opportunities</span></span></span></li>\n	<li><span style="color:#000000\;"><span style="font-family:arial\;"><span style="font-size:14px\;">Navigating our website &amp\; logging into the Member portal</span></span></span></li>\n	<li><span style="color:#000000\;"><span style="font-family:arial\;"><span style="font-size:14px\;">How to save money with your membership</span></span></span></li>\n</ul>\n<span style="color: rgb(0\, 0\, 0)\; font-family: Arial\; font-size: 14.6667px\; font-style: italic\; white-space: pre-wrap\;">This is a meeting style event\, so attendees cameras and microphones will be on. There will be an opportunity to ask questions live and using the chat feature in Zoom.</span>
LOCATION:This session will be held on Zoom.
UID:e.2416.2158
SEQUENCE:3
DTSTAMP:20260420T102307Z
URL:https://business.whistlerchamber.com/events/details/virtual-meeting-membership-101-2158
END:VEVENT

END:VCALENDAR
