BEGIN:VCALENDAR
VERSION:2.0
PRODID:-//ChamberMaster//Event Calendar 2.0//EN
METHOD:PUBLISH
X-PUBLISHED-TTL:P3D
REFRESH-INTERVAL:P3D
CALSCALE:GREGORIAN
BEGIN:VEVENT
DTSTART:20231101T163000Z
DTEND:20231101T223000Z
X-MICROSOFT-CDO-ALLDAYEVENT:FALSE
SUMMARY:Service Canada Programs and Services at the Whistler Chamber
DESCRIPTION:Once a month\, Service Canada Outreach offer professional and helpful services to citizens and visitors at the Whistler Chamber\, in our Gateway Room from 9:30 a.m. to 3:30 p.m. \n\nNo registration is required\; walk-ins are welcome and you will be seen on a first-come\, first-served basis. Programs and services available include:\n\n\n	social insurance number\n	passport services\n	Canada pension plan\n	old age security\n	employment insurance\n	foreign credentials referral\n	work-sharing\n	apprenticeship grants\n	employment programs\n	wager earner protection program\n	Canada education savings grant\n	record of employment web service (ROE)\n	temporary foreign worker program\n\n\nService Canada is the program operated by Employment and Social Development Canada to serve as a single-point of access for the Government of Canada's largest and most heavily used programs\, including the social insurance number\, the Employment Insurance program\, and more. \nFor any questions\, please contact Service Canada:\n\n\n	Phone 1.800.206.7218\n	Website: www.servicecanada.gc.ca\n	In person: Visit the Squamish Office   1440 Winnipeg Street\, Squamish\, BC\, or View alternative upcoming dates at the Whistler Chamber here     \n\nThe Whistler Chamber is located in the Gateway Building\, above the Tourism Information Centre\, next to the taxi loop.
X-ALT-DESC;FMTTYPE=text/html:<p style="box-sizing: border-box\; margin: 0px\; padding: 0px 0px 1em\; border: 0px\; outline: 0px\; font-size: 17px\; text-size-adjust: 100%\; vertical-align: baseline\; background-image: initial\; background-position: initial\; background-size: initial\; background-repeat: initial\; background-attachment: initial\; background-origin: initial\; background-clip: initial\; font-family: NationalBook\; color: rgb(94\, 97\, 111)\;"><span style="color:#000000\;"><span style="font-size:14px\;"><span style="font-family:arial\;">Once a month\, Service Canada Outreach offer&nbsp\;professional and helpful services to citizens and visitors at&nbsp\;the Whistler Chamber\, in our&nbsp\;Gateway Room&nbsp\;from&nbsp\;<strong style="color: rgb(94\, 97\, 111)\; font-family: arial\; font-size: 14px\;">9:30 a.m. to 3:30 p.m.</strong>&nbsp\;</span></span></span></p>\n\n<p style="box-sizing: border-box\; margin: 0px\; padding: 0px 0px 1em\; border: 0px\; outline: 0px\; font-size: 17px\; text-size-adjust: 100%\; vertical-align: baseline\; background-image: initial\; background-position: initial\; background-size: initial\; background-repeat: initial\; background-attachment: initial\; background-origin: initial\; background-clip: initial\; font-family: NationalBook\; color: rgb(94\, 97\, 111)\;"><span style="color:#000000\;"><span style="font-size:14px\;"><span style="font-family:arial\;">No registration is required\;&nbsp\;walk-ins are welcome and you will be seen on a first-come\, first-served basis.&nbsp\;Programs and services available include:</span></span></span></p>\n\n<ul>\n	<li style="box-sizing: border-box\; margin: 0px\; padding: 0px\; border: 0px\; outline: 0px\; text-size-adjust: 100%\; vertical-align: baseline\; background: transparent\;"><span style="color:#000000\;"><span style="font-size:14px\;"><span style="font-family:arial\;">social insurance number</span></span></span></li>\n	<li style="box-sizing: border-box\; margin: 0px\; padding: 0px\; border: 0px\; outline: 0px\; text-size-adjust: 100%\; vertical-align: baseline\; background: transparent\;"><span style="color:#000000\;"><span style="font-size:14px\;"><span style="font-family:arial\;">passport services</span></span></span></li>\n	<li style="box-sizing: border-box\; margin: 0px\; padding: 0px\; border: 0px\; outline: 0px\; text-size-adjust: 100%\; vertical-align: baseline\; background: transparent\;"><span style="color:#000000\;"><span style="font-size:14px\;"><span style="font-family:arial\;">Canada pension plan</span></span></span></li>\n	<li style="box-sizing: border-box\; margin: 0px\; padding: 0px\; border: 0px\; outline: 0px\; text-size-adjust: 100%\; vertical-align: baseline\; background: transparent\;"><span style="color:#000000\;"><span style="font-size:14px\;"><span style="font-family:arial\;">old age security</span></span></span></li>\n	<li style="box-sizing: border-box\; margin: 0px\; padding: 0px\; border: 0px\; outline: 0px\; text-size-adjust: 100%\; vertical-align: baseline\; background: transparent\;"><span style="color:#000000\;"><span style="font-size:14px\;"><span style="font-family:arial\;">employment insurance</span></span></span></li>\n	<li style="box-sizing: border-box\; margin: 0px\; padding: 0px\; border: 0px\; outline: 0px\; text-size-adjust: 100%\; vertical-align: baseline\; background: transparent\;"><span style="color:#000000\;"><span style="font-size:14px\;"><span style="font-family:arial\;">foreign credentials referral</span></span></span></li>\n	<li style="box-sizing: border-box\; margin: 0px\; padding: 0px\; border: 0px\; outline: 0px\; text-size-adjust: 100%\; vertical-align: baseline\; background: transparent\;"><span style="color:#000000\;"><span style="font-size:14px\;"><span style="font-family:arial\;">work-sharing</span></span></span></li>\n	<li style="box-sizing: border-box\; margin: 0px\; padding: 0px\; border: 0px\; outline: 0px\; text-size-adjust: 100%\; vertical-align: baseline\; background: transparent\;"><span style="color:#000000\;"><span style="font-size:14px\;"><span style="font-family:arial\;">apprenticeship grants</span></span></span></li>\n	<li style="box-sizing: border-box\; margin: 0px\; padding: 0px\; border: 0px\; outline: 0px\; text-size-adjust: 100%\; vertical-align: baseline\; background: transparent\;"><span style="color:#000000\;"><span style="font-size:14px\;"><span style="font-family:arial\;">employment programs</span></span></span></li>\n	<li style="box-sizing: border-box\; margin: 0px\; padding: 0px\; border: 0px\; outline: 0px\; text-size-adjust: 100%\; vertical-align: baseline\; background: transparent\;"><span style="color:#000000\;"><span style="font-size:14px\;"><span style="font-family:arial\;">wager earner protection program</span></span></span></li>\n	<li style="box-sizing: border-box\; margin: 0px\; padding: 0px\; border: 0px\; outline: 0px\; text-size-adjust: 100%\; vertical-align: baseline\; background: transparent\;"><span style="color:#000000\;"><span style="font-size:14px\;"><span style="font-family:arial\;">Canada education savings grant</span></span></span></li>\n	<li style="box-sizing: border-box\; margin: 0px\; padding: 0px\; border: 0px\; outline: 0px\; text-size-adjust: 100%\; vertical-align: baseline\; background: transparent\;"><span style="color:#000000\;"><span style="font-size:14px\;"><span style="font-family:arial\;">record of employment web service (ROE)</span></span></span></li>\n	<li style="box-sizing: border-box\; margin: 0px\; padding: 0px\; border: 0px\; outline: 0px\; text-size-adjust: 100%\; vertical-align: baseline\; background: transparent\;"><span style="color:#000000\;"><span style="font-size:14px\;"><span style="font-family:arial\;">temporary foreign worker program</span></span></span></li>\n</ul>\n\n<p style="box-sizing: border-box\; margin: 0px\; padding: 0px 0px 1em\; border: 0px\; outline: 0px\; font-size: 17px\; text-size-adjust: 100%\; vertical-align: baseline\; background-image: initial\; background-position: initial\; background-size: initial\; background-repeat: initial\; background-attachment: initial\; background-origin: initial\; background-clip: initial\; font-family: NationalBook\; color: rgb(94\, 97\, 111)\;"><span style="color:#000000\;"><span style="font-size:14px\;"><span style="font-family:arial\;">Service Canada is the program operated by Employment and Social Development Canada to serve as a single-point of access for the Government of Canada&#39\;s largest and most heavily used programs\, including the social insurance number\, the Employment Insurance program\, and more.&nbsp\;</span></span></span></p>\n<span style="color:#000000\;"><span style="font-size:14px\;"><span style="font-family:arial\;">For any questions\, please contact Service Canada:</span></span></span>\n\n<ul>\n	<li><span style="color:#000000\;"><span style="font-size:14px\;"><span style="font-family:arial\;">Phone 1.800.206.7218</span></span></span></li>\n	<li><span style="color:#000000\;"><span style="font-size:14px\;"><span style="font-family:arial\;">Website:&nbsp\;<a href="http://www.servicecanada.gc.ca">www.servicecanada.gc.ca</a></span></span></span></li>\n	<li><span style="color:#000000\;"><span style="font-size:14px\;"><span style="font-family:arial\;">In person: Visit the&nbsp\;Squamish Office &ndash\; 1440 Winnipeg Street\, Squamish\, BC\, or&nbsp\;<a href="https://www.whistlerchamber.com/membership/employment-resources/service-canada/"><span style="color:#000000\;"><span style="font-size:14px\;"><span style="font-family:arial\;">View alternative upcoming dates at the Whistler Chamber here &gt\;&gt\;&gt\;&nbsp\;</span></span></span></a></span></span></span></li>\n</ul>\n<em><span style="font-size:14px\;"><span style="font-family:arial\;">The Whistler Chamber is located in the Gateway Building\, above the Tourism Information Centre\, next to the taxi loop.</span></span></em>
LOCATION:Whistler Chamber Gateway Boardroom 4230 Gateway Drive\, Whistler
UID:e.2416.2616
SEQUENCE:3
DTSTAMP:20260421T142037Z
URL:https://business.whistlerchamber.com/events/details/service-canada-programs-and-services-at-the-whistler-chamber-2616
END:VEVENT

END:VCALENDAR
