BEGIN:VCALENDAR
VERSION:2.0
PRODID:-//ChamberMaster//Event Calendar 2.0//EN
METHOD:PUBLISH
X-PUBLISHED-TTL:P3D
REFRESH-INTERVAL:P3D
CALSCALE:GREGORIAN
BEGIN:VEVENT
DTSTART:20230608T160000Z
DTEND:20230608T190000Z
X-MICROSOFT-CDO-ALLDAYEVENT:FALSE
SUMMARY:Everything You Need to Know About Video for Social Media! presented by Catherine Aird Social Media
DESCRIPTION:Are you looking for time-saving ways to create more videos? Not sure what type of videos to post where? Looking for a scalable strategy?\n\n\n\nIn this workshop\, you'll discover how to create good videos for Reels\, Stories\, and the feed. You will also learn how to repurpose your content on various platforms including YouTube and your blog for maximum exposure!\n\n\n\nThursday\, June 8\, join successful social media coach & marketer Catherine Aird to gain clarity on the type of video content to create as she shares tools needed to create and repurpose quality videos for social media.\n\n \n\nParticipants will walk out with a good understanding on how to create a short format video strategy that scales along with techniques to shoot and edit videos for various platforms. Learning outcomes include:\n\n	Develop a short format video strategy that scales\n	Understand the different video formats for Reels\, Stories\, Feeds\, YouTube and Shorts\n	Know how to shoot good videos with a smartphone\n	Know what video editing programs and apps are best to get started\n	Be able to create Instagram Reels with music\, captions\, and special effects\n	Be able to repurpose your content on various platforms seamlessly\n\nBonus: Access to a custom series of YouTube video tutorials to review the more technical parts of the presentation\, cheat sheets\, exercise print outs and access to a Facebook Private Group for ongoing support.\n\n \n\nThis session is a mix of teaching and exercises so participants can work on their strategy and practice shooting and editing videos. Students are required to bring both a laptop and a smartphone\, access to social media accounts and Apple Store of Google Play passwords.\n\n \n\nBest for: EVERYONE interested in getting started or improving videos\, Going Live and creating a scalable short format video strategy. Basic knowledge of Instagram recommended.\n\n\n\nAbout the facilitator\n\nCatherine Aird \n\nKnown for her love of the mountains\, geeking out and seeking results!\n\n\n\nCatherine is a social media coach & marketer based Whistler\, British Columbia. Using private coaching and webinars\, she helps business owners and real estate agents build simple and efficient social media strategies to help showcase products & services while creating meaningful relationships with their audience.\n\n\n\nOriginally from Montr al\, she has been working in sales and marketing for the past 25 years.  She has taken businesses from zero to over 25\,000 followers\, mostly organically\, and has had the privilege to work on an ongoing basis with the Meta Advertising team for the last 15 years. \n\n\n\nIn 2015\, she teamed up Heather at Keep It Simple Social Media to build workshops and webinars taught to over 5\,000 REALTORS  and business owners to date. \n\n\n\nAccess free social media resources and get a taste of the mountains on her blog at https://catherineaird.ca/blog/. \n\n\n\nFollow her business on Instagram\, YouTube and Facebook at @catherineairdsocialmedia and take a breath of fresh air on her personal Instagram account @catherineaird. \n\nWebsite: www.catherineaird.ca\, email hello@catherineaird.ca\n\n\n\n\n\nRegistration & Cancellation Policy\n\nPlease note that The Chamber will not accept walk-ins on the day. Pre-registration is required. Our online registration system accepts VISA and MasterCard. The Chamber also accepts credit card payment over the phone. Payment is non-refundable for cancellations made within 5 business days of the event\, or non attendance on the day.
X-ALT-DESC;FMTTYPE=text/html:<span style="font-size:14px\;"><span style="font-family:arial\;">Are you looking for time-saving ways to create more videos? Not sure what type of videos to post where? Looking for a scalable strategy?<br />\n<br />\nIn this workshop\, you&rsquo\;ll discover how to create good videos for Reels\, Stories\, and the feed. You will also learn how to repurpose your content on various platforms including YouTube and your blog for maximum exposure!<br />\n<br />\nThursday\, June 8\, join successful social media coach &amp\; marketer Catherine Aird to gain clarity on the type of video content to create as she shares tools needed to create and repurpose quality videos for social media.<br />\n&nbsp\;<br />\nParticipants will walk out with a good understanding on how to create a short format video strategy that scales along with techniques to shoot and edit videos for various platforms.&nbsp\;Learning outcomes include:</span></span>\n<ul>\n	<li><span style="font-size:14px\;"><span style="font-family:arial\;">Develop a short format video strategy that scales</span></span></li>\n	<li><span style="font-size:14px\;"><span style="font-family:arial\;">Understand the different video formats for Reels\, Stories\, Feeds\, YouTube and Shorts</span></span></li>\n	<li><span style="font-size:14px\;"><span style="font-family:arial\;">Know how to shoot good videos with a smartphone</span></span></li>\n	<li><span style="font-size:14px\;"><span style="font-family:arial\;">Know what video editing programs and apps are best to get started</span></span></li>\n	<li><span style="font-size:14px\;"><span style="font-family:arial\;">Be able to create Instagram Reels with music\, captions\, and special effects</span></span></li>\n	<li><span style="font-size:14px\;"><span style="font-family:arial\;">Be able to repurpose your content on various platforms seamlessly</span></span></li>\n</ul>\n<span style="font-size:14px\;"><span style="font-family:arial\;">Bonus: Access to a custom series of YouTube video tutorials to review the more technical parts of the presentation\, cheat sheets\, exercise print outs and access to a Facebook Private Group for ongoing support.<br />\n&nbsp\;<br />\nThis session is a mix of teaching and exercises so participants can work on their strategy and practice shooting and editing videos. Students are required to bring both a laptop and a smartphone\, access to social media accounts and Apple Store of Google Play passwords.<br />\n&nbsp\;<br />\nBest for: EVERYONE interested in getting started or improving videos\, Going Live and creating a scalable short format video strategy. Basic knowledge of Instagram recommended.</span></span><br />\n<br />\n<span style="font-size:14px\;"><span style="font-family:arial\;"><strong><u>About the facilitator</u><br />\nCatherine Aird&nbsp\;</strong><br />\nKnown for her love of the mountains\, geeking out and seeking results!<br />\n<br />\nCatherine is a social media coach &amp\; marketer based Whistler\, British Columbia. Using private coaching and webinars\, she helps business owners and real estate agents build simple and efficient social media strategies to help showcase products &amp\; services while creating meaningful relationships with their audience.<br />\n<br />\nOriginally from Montr&eacute\;al\, she has been working in sales and marketing for the past 25 years.&nbsp\; She has taken businesses from zero to over 25\,000 followers\, mostly organically\, and has had the privilege to work on an ongoing basis with the Meta Advertising team for the last 15 years.&nbsp\;<br />\n<br />\nIn 2015\, she teamed up Heather at Keep It Simple Social Media to build workshops and webinars taught to over 5\,000 REALTORS&copy\; and business owners to date.&nbsp\;<br />\n<br />\nAccess free social media resources and get a taste of the mountains on her blog at <a href="https://catherineaird.ca/blog/" target="_blank">https://catherineaird.ca/blog/</a>.&nbsp\;<br />\n<br />\nFollow her business on Instagram\, YouTube and Facebook at @catherineairdsocialmedia and take a breath of fresh air on her personal Instagram account @catherineaird.&nbsp\;<br />\nWebsite: <a href="http://www.catherineaird.ca" target="_blank">www.catherineaird.ca</a>\, email <a href="mailto:hello@catherineaird.ca">hello@catherineaird.ca</a></span></span><br />\n<br />\n<br />\n<span style="font-size: 12px\;"><span style="color: rgb(68\, 68\, 68)\; font-family: NationalBook\, Arial\, Helvetica\, sans-serif\;"><strong>Registration &amp\; Cancellation Policy</strong><br />\n<em>Please note that The Chamber will not accept walk-ins on the day. Pre-registration is required. Our online registration system accepts VISA and MasterCard. The Chamber also accepts credit card payment over the phone.&nbsp\;Payment is non-refundable for cancellations made within 5 business days of the event\, or non attendance on the day.</em></span></span>
LOCATION:Whistler Chamber Gateway Boardroom 4230 Gateway Drive\, Whistler
UID:e.2416.2600
SEQUENCE:3
DTSTAMP:20260421T192932Z
URL:https://business.whistlerchamber.com/events/details/everything-you-need-to-know-about-video-for-social-media-presented-by-catherine-aird-social-media-2600
END:VEVENT

END:VCALENDAR
