BEGIN:VCALENDAR
VERSION:2.0
PRODID:-//ChamberMaster//Event Calendar 2.0//EN
METHOD:PUBLISH
X-PUBLISHED-TTL:P3D
REFRESH-INTERVAL:P3D
CALSCALE:GREGORIAN
BEGIN:VEVENT
DTSTART:20260311T000000Z
DTEND:20260311T013000Z
X-MICROSOFT-CDO-ALLDAYEVENT:FALSE
SUMMARY:Chamber Apres: Sky-High Networking with Blackcomb Helicopters / Coast Range Heliskiing
DESCRIPTION:A seriously good time\, every time!\n\nBuild connections\, expand your network\, and discover the incredible experiences Whistler's business community has to offer. Each month from September to July\, a different Chamber Member takes the spotlight\, hosting you in their venue or unique experience-based location.\n\nFrom wine pairings to puzzles\, mountaintop mingling to hands-on adventures\, every Chamber Apr s is designed to break the ice\, spark conversations\, and grow your Whistler social capital   and yes\, Apr s delights are included.\n\nEnjoy a variety of delicious food and drink\, meet new faces\, and catch up with familiar ones\, all while strengthening your place in our vibrant business community.\n\n\n\nPricing: \n\n$25 for Members\, $40 for future Members \n\nExclusive Member Special: $200 for a Season Pass*\n\n\n\nMarch 10\, 2026 | Chamber Apr s: Sky-High Networking with Blackcomb Helicopters\n\n\n\nTake your networking to new heights with Blackcomb Helicopters! Enjoy a complimentary welcome drink\, delicious nibbles catered by Whistler Cooks\, and the thrill of winning one of 25 seats for helicopter rides* given away during the event.\n\nPlus\, every guest will be entered to win one of two grand prizes   a heli-ski tour for one person valued at $2\,000 (plus the winners have access to a special offer to bring a +1 for the extremely discounted price of $1000). With an intimate guest list of just 50 attendees\, this is a unique opportunity to make meaningful business connections in an unforgettable setting.\n\n\n\nA few things to note:\n\n\n	Free parking available onsite\, please car-share where possible. \n	This event will take place indoors and outside so\, please dress warmly with appropriate winter clothing and warm footwear.  \n\n\nLearn more about Blackcomb Helicopters here    \n\n\n\nCapacity: 50 (although this event is sold out\, join the waitlist for the chance to win something special!)\n\n\n\n*While we endeavor to run helicopter rides for guests on the day\, we are bound by weather constraints\; in the instance of inclement weather\, Helicopter rides will be cancelled. Should Helicopter rides be cancelled\, all attendees will be entered into the draw to win one of two sightsee tour experiences for two people.  \n\n\n\n\n\n\nAre you interested in hosting a Chamber Apr s in the next season? Find out more at our Chamber Apr s Networking Events Page\n\n \n\n\n\n\n*Season Pass Terms & Conditions\n\n\n	Season Passes for the 2025/26 Apres Season are only available to members in good standing for the 2025/26 Whistler Chamber fiscal\n	Exclusive Member benefit\, available for purchase via the Ziptrek Chamber Apr s event registration only (view here)\, until September 9\, 2025\, or until sold out)\n	Pass holders are automatically added to each event in the series\n	\n		 Each Season Pass includes one (1) ticket to each event in the 2025 26 Season (ten events total\, pop-up events not included).\n	\n	\n	Season Passes are non-refundable after September 9\, 2025.\n	Tickets may be transferred to another individual of your choice (inside or out of your organisation).\n	Season Pass tickets are non-transferable between events\, unless approved in writing by the Chamber at chamber@whistlerchamber.com no less than fourteen (14) business days prior to the scheduled event.\n	Tickets are not redeemable for cash or credit and cannot be carried over to another season or event.\n\n\nCancellation Policy\n\n\n	Payment for single tickets is non-refundable for cancellations made within five (5) business days of the event or for non-attendance on the day.\n	If you have registered and paid for an event\, you will be automatically added to the attendance list.\n	Photographs taken at the event may be used in Whistler Chamber marketing and promotional materials.
X-ALT-DESC;FMTTYPE=text/html:<p data-end="310" data-start="274"><span style="font-size:16px\;"><span style="font-family:arial\;"><em><strong>A seriously good time\, every time!</strong></em></span></span><br />\n<span style="font-size:14px\;"><span style="font-family:arial\;">Build connections\, expand your network\, and discover the incredible experiences Whistler&rsquo\;s business community has to offer. Each month from September to July\, a different Chamber Member takes the spotlight\, hosting you in their venue or unique experience-based location.</span></span></p>\n\n<p data-end="794" data-start="586"><span style="font-size:14px\;"><span style="font-family:arial\;">From wine pairings to puzzles\, mountaintop mingling to hands-on adventures\, every Chamber Apr&egrave\;s is designed to break the ice\, spark conversations\, and grow your Whistler social capital &mdash\; and yes\, Apr&egrave\;s delights are included.</span></span></p>\n\n<p data-end="961" data-start="796"><span style="font-size:14px\;"><span style="font-family:arial\;">Enjoy a variety of delicious food and drink\, meet new faces\, and catch up with familiar ones\, all while strengthening your place in our vibrant business community.<br />\n<br />\n<strong><span style="background-image:initial\;background-position:initial\;background-size:initial\;background-repeat:initial\;background-attachment:initial\;background-origin:initial\;background-clip:initial\;">Pricing:&nbsp\;</span></strong><br />\n<span style="background-image:initial\;background-position:initial\;background-size:initial\;background-repeat:initial\;background-attachment:initial\;background-origin:initial\;background-clip:initial\;">$25&nbsp\;for Members\, $40&nbsp\;for future Members&nbsp\;</span></span></span><br />\n<span style="font-family:arial\,sans-serif\;"><span style="font-size:10.5pt\;"><span style="background-image:initial\;background-position:initial\;background-size:initial\;background-repeat:initial\;background-attachment:initial\;background-origin:initial\;background-clip:initial\;"><span style="font-size:14px\;"><span style="font-family:arial\;">Exclusive Member Special: $200 for a Season Pass*</span></span></span></span></span><br />\n<br />\n<span style="font-size:14px\;"><span style="font-family:arial\;"><strong>March 10\, 2026 | </strong><strong>Chamber Apr&egrave\;s: Sky-High Networking with Blackcomb Helicopters</strong><br />\n<br />\nTake your networking to new heights with Blackcomb Helicopters! Enjoy a complimentary welcome drink\, delicious nibbles catered by Whistler Cooks\,&nbsp\;and the thrill of winning one of 25 seats for helicopter rides* given away during the event.</span></span></p>\n\n<p data-end="961" data-start="796"><span style="font-size:14px\;"><span style="font-family:arial\;"><strong>Plus</strong>\, every guest will be entered to <strong>win one of two grand prizes &mdash\; a heli-ski tour for one person valued at $2\,000 (plus the winners have access to a special offer to bring a +1 for the extremely&nbsp\;discounted price of $1000)</strong>. With an intimate guest list of just 50 attendees\, this is a unique opportunity to make meaningful business connections in an unforgettable setting.<br />\n<br />\n<strong><span style="background:yellow\;">A few things to note:</span></strong></span></span></p>\n\n<ul>\n	<li data-end="961" data-start="796"><span style="font-size:14px\;"><span style="font-family:arial\;">Free parking available onsite\, please car-share where possible.&nbsp\;</span></span></li>\n	<li data-end="961" data-start="796"><span style="font-size:14px\;"><span style="font-family:arial\;">This event will take place indoors and outside so\, please dress warmly with appropriate winter clothing and warm footwear.&nbsp\;&nbsp\;</span></span></li>\n</ul>\n\n<p data-end="961" data-start="796"><span style="font-size:14px\;"><span style="font-family:arial\;">Learn more about Blackcomb Helicopters <a href="https://blackcombhelicopters.com/" target="_blank">here &gt\;&gt\;&gt\;</a></span></span><br />\n<br />\n<strong><span style="font-family: arial\; font-size: 14px\;">Capacity: 50 (although&nbsp\;this event is sold out\, join the waitlist for the chance to win something special!)</span></strong><br />\n<br />\n<strong><span style="font-size:14px\;"><span style="font-family:arial\;"><em>*While we endeavor to run helicopter rides for guests on the day\, we are bound by weather constraints\;&nbsp\;in the instance of inclement weather\, Helicopter rides will be cancelled. Should Helicopter rides be cancelled\, all attendees will be entered into the draw to win one of two sightsee tour experiences for two people.&nbsp\;&nbsp\;</em></span></span></strong></p>\n\n<div align="center" style="text-align:center\;">\n<hr align="center" size="3" width="100%" /></div>\n\n<p data-end="961" data-start="796"><br />\n<strong><span style="font-size:14px\;"><span style="font-family:arial\;">Are you interested in hosting a Chamber Apr&egrave\;s in the next season? Find out more at our&nbsp\;<a href="https://go.whistlerchamber.com/Apres" target="_blank">Chamber Apr&egrave\;s Networking Events Page</a></span></span></strong><br />\n&nbsp\;</p>\n\n<div align="center" style="text-align:center\;">\n<hr align="center" size="3" width="100%" /></div>\n\n<div style="font-size: 14px\;"><span style="font-size: 12px\;"><span style="font-family: arial\;"><em><strong>*Season Pass Terms &amp\; Conditions</strong></em></span></span></div>\n\n<ul style="font-size: 14px\;">\n	<li><span style="font-size: 12px\;"><span style="font-family: arial\;">Season Passes for the 2025/26 Apres Season are only available to members in good standing for the 2025/26 Whistler Chamber fiscal</span></span></li>\n	<li><span style="font-size: 12px\;"><span style="font-family: arial\;">Exclusive Member benefit\, available for purchase via the Ziptrek Chamber Apr&egrave\;s event registration only (<a href="https://business.whistlerchamber.com/events/details/chamber-apres-zip-sip-socialize-with-ziptrek-ecotours-coast-mountain-brewing-2844">view here</a>)\, until September 9\, 2025\, or until sold out)</span></span></li>\n	<li><span style="font-size: 12px\;"><span style="font-family: arial\;">Pass holders are automatically added to each event in the series</span></span>\n	<ul>\n		<li><span style="font-size: 12px\;"><span style="font-family: arial\;">&#8203\;Each Season Pass includes one (1) ticket to each event in the 2025&ndash\;26 Season (ten events total\, pop-up events not included).</span></span></li>\n	</ul>\n	</li>\n	<li><span style="font-size: 12px\;"><span style="font-family: arial\;">Season Passes are non-refundable after September 9\, 2025.</span></span></li>\n	<li><span style="font-size: 12px\;"><span style="font-family: arial\;">Tickets may be transferred to another individual of your choice (inside or out of your organisation).</span></span></li>\n	<li><span style="font-size: 12px\;"><span style="font-family: arial\;">Season Pass tickets are non-transferable between events\, unless approved in writing by the Chamber at chamber@whistlerchamber.com no less than fourteen (14) business days prior to the scheduled event.</span></span></li>\n	<li><span style="font-size: 12px\;"><span style="font-family: arial\;">Tickets are not redeemable for cash or credit and cannot be carried over to another season or event.</span></span></li>\n</ul>\n\n<div style="font-size: 14px\;"><span style="font-size: 12px\;"><span style="font-family: arial\;"><strong><em>Cancellation Policy</em></strong></span></span></div>\n\n<ul style="font-size: 14px\;">\n	<li><span style="font-size: 12px\;"><span style="font-family: arial\;">Payment for single tickets is non-refundable for cancellations made within five (5) business days of the event or for non-attendance on the day.</span></span></li>\n	<li><span style="font-size: 12px\;"><span style="font-family: arial\;">If you have registered and paid for an event\, you will be automatically added to the attendance list.</span></span></li>\n	<li><span style="font-size: 12px\;"><span style="font-family: arial\;">Photographs taken at the event may be used in Whistler Chamber marketing and promotional materials.</span></span></li>\n</ul>\n\n<div align="center" style="text-align:center\;">\n<hr align="center" size="3" width="100%" /></div>\n\n<p data-end="236" data-start="200">&nbsp\;</p>\n
LOCATION:Blackcomb Helicopters (North of Village) 9960 Heliport Rd\, Whistler\, BC V0N 1B0
UID:e.2416.2848
SEQUENCE:3
DTSTAMP:20260424T130537Z
URL:https://business.whistlerchamber.com/events/details/chamber-apres-sky-high-networking-with-blackcomb-helicopters-coast-range-heliskiing-2848
END:VEVENT

END:VCALENDAR
