BEGIN:VCALENDAR
VERSION:2.0
PRODID:-//ChamberMaster//Event Calendar 2.0//EN
METHOD:PUBLISH
X-PUBLISHED-TTL:P3D
REFRESH-INTERVAL:P3D
CALSCALE:GREGORIAN
BEGIN:VEVENT
DTSTART:20260515T230000Z
DTEND:20260516T030000Z
X-MICROSOFT-CDO-ALLDAYEVENT:FALSE
SUMMARY:Chamber Apres: Bike\, Sip & Celebrate with Cycle Whistler
DESCRIPTION:A Seriously Good Time!\n\nBuild connections\, expand your network\, learn and experience what Whistler's business community has to offer. \n\n\n\nElevate your business and your Whistler social capital at Chamber Apr s   where we network with purpose. Every month\, the Chamber invites business owners and decision makers to visit new and existing businesses in town. Each event has a theme and will have you trying out a new activity\, from wine-pairing to puzzles   built to break the ice while you flex the brain and yes\, cocktails are always a key ingredient.\n\n\n\nEnjoy a variety of delicious food and drink while meeting and connecting with Whistler's business community.\n\n\n\nPricing: \n\n$25 for Members\, $40 for future Members \n\nExclusive Member Special: $200 for a Chamber Apr s Season Pass*\n\n\n\nFriday\, May 16\, 2025 | Celebrating Bike to Work Day with Cycle Whistler \n\n\n\nCelebrate Bike to Work Day Chamber Apr s style!\n\n\n\nJoin us for an extra-special Chamber Apr s in partnership with Cycle Whistler as we celebrate Bike to Work Day with an active twist on our signature networking event.\n\n\n\n     Guided Bike Tour Experience\n\nStart your evening with a scenic ride along the Valley Trail in one of five guided groups\, beginning with check-in at Cycle Whistler. Along the route\, you'll stop at Nicklaus North Golf Club to enjoy a complimentary beverage\, tasty appetizers\, and some friendly competition in a putting challenge! Winners from each group will be entered into a draw for a grand prize courtesy of Cycle Whistler\, Nicklaus North\, and the Hilton Whistler Resort & Spa (winner drawn at CBB\, must be present to collect prize).\n\n\n\n  Apr s at the Hilton Whistler Resort & Spa\n\nWhether you join the guided tour or meet us at the final destination\, the real celebration kicks off at CBB in the Hilton. Enjoy live music\, delicious appetizers\, another complimentary beverage\, and meaningful conversations with fellow business leaders and community members.\n\n\n\nEvent Schedule*:\n\n\n	4:00   5:00 PM: Registration for bike tour participants at Cycle Whistler\n	4:30   5:30 PM: Stop at Nicklaus North Golf Club (refreshments + putting challenge)\n	5:15   8:00 PM: Registration at Hilton Whistler (for non-cyclists)\n	5:30   8:00 PM: Apr s party at the Hilton Whistler Resort & Spa (open to all guests\, bike storage available onsite)\n\n\nThis is a special extended Apr s\, running until 8:00 PM. Don't miss this opportunity to build connections\, celebrate community\, and toast to Bike to Work Day   all while enjoying the best of Whistler by bike!\n\n\n\n*event agenda and details subject to change\n\n\n\nLearn more about Cycle Whistler here    \n\n\n\nBike rental: 17 bikes available for rent\, so get in quick!\n\n\n\nCapacity: 50 (spaces are limited so\, don't miss out and book today!)\n\n\n\n\n\n\nAre you interested in hosting a Chamber Apr s in the next season? Find out more at our Chamber Apr s Networking Events Page\n\n \n\n\n\n\n*Season Pass Terms & Conditions\n\n\n	Season Passes for the 2025/26 Apres Season are only available to members in good standing for the 2025/26 Whistler Chamber fiscal\n	Exclusive Member benefit\, available for purchase via the Ziptrek Chamber Apr s event registration only (view here)\, until September 9\, 2025\, or until sold out)\n	Pass holders are automatically added to each event in the series\n	\n		 Each Season Pass includes one (1) ticket to each event in the 2025 26 Season (ten events total\, pop-up events not included).\n	\n	\n	Season Passes are non-refundable after September 9\, 2025.\n	Tickets may be transferred to another individual of your choice (inside or out of your organisation).\n	Season Pass tickets are non-transferable between events\, unless approved in writing by the Chamber at chamber@whistlerchamber.com no less than fourteen (14) business days prior to the scheduled event.\n	Tickets are not redeemable for cash or credit and cannot be carried over to another season or event.\n\n\nCancellation Policy\n\n\n	Payment for single tickets is non-refundable for cancellations made within five (5) business days of the event or for non-attendance on the day.\n	If you have registered and paid for an event\, you will be automatically added to the attendance list.\n	Photographs taken at the event may be used in Whistler Chamber marketing and promotional materials.
X-ALT-DESC;FMTTYPE=text/html:<p><span style="font-size:16px\;"><em><strong>A Seriously Good Time!</strong></em></span><br />\n<span style="font-size:14px\;"><span style="font-family:arial\;">Build connections\, expand your network\, learn and experience what Whistler&rsquo\;s business community has to offer.&nbsp\;<br />\n<br />\nElevate your business and your Whistler social capital at Chamber Apr&egrave\;s &ndash\; where we network with purpose. Every month\, the Chamber invites business owners and decision makers to visit new and existing businesses in town. Each event has a theme and will have you trying out a new activity\, from wine-pairing to puzzles &ndash\; built to break the ice while you flex the brain and yes\, cocktails are always a key ingredient.<br />\n<br />\nEnjoy a variety of delicious food and drink while meeting and connecting with Whistler&rsquo\;s business community.</span></span><br />\n<br />\n<strong style="font-family: arial\; font-size: 14px\;">Pricing:&nbsp\;</strong><br />\n<span style="font-family: arial\; font-size: 14px\;">$25&nbsp\;for Members\, $40&nbsp\;for future Members&nbsp\;</span><br style="font-family: arial\; font-size: 14px\;" />\n<span style="font-family: arial\; font-size: 14px\;">Exclusive Member Special: $200 for a Chamber Apr&egrave\;s Season Pass*</span><br />\n<br />\n<span style="font-size:14px\;"><span style="font-family:arial\;"><strong>Friday\, May 16\, 2025&nbsp\;| Celebrating Bike to Work Day with Cycle Whistler</strong></span></span><span style="font-size:14px\;"><span style="font-family:arial\;"><strong>&nbsp\;</strong></span></span><br />\n<br />\n<span style="font-size:14px\;"><span style="font-family:arial\;">Celebrate Bike to Work Day&mdash\;Chamber Apr&egrave\;s style!<br />\n<br />\nJoin us for an extra-special Chamber Apr&egrave\;s in partnership with Cycle Whistler as we celebrate Bike to Work Day with an active twist on our signature networking event.<br />\n<br />\n<strong>&#128692\;&zwj\;&#9794\;&#65039\; Guided Bike Tour Experience</strong><br />\nStart your evening with a scenic ride along the Valley Trail in one of five guided groups\, beginning with check-in at Cycle Whistler. Along the route\, you&rsquo\;ll stop at Nicklaus North Golf Club to enjoy a complimentary beverage\, tasty appetizers\, and some friendly competition in a putting challenge! Winners from each group will be entered into a draw for a grand prize courtesy of Cycle Whistler\, Nicklaus North\, and the Hilton Whistler Resort &amp\; Spa (winner drawn at CBB\, must be present to collect prize).<br />\n<br />\n<strong>&#127881\; Apr&egrave\;s at the Hilton Whistler Resort &amp\; Spa</strong><br />\nWhether you join the guided tour or meet us at the final destination\, the real celebration kicks off at CBB in the Hilton. Enjoy live music\, delicious appetizers\, another complimentary beverage\, and meaningful conversations with fellow business leaders and community members.<br />\n<br />\n<strong>Event Schedule*</strong>:</span></span></p>\n\n<ul>\n	<li><span style="font-size:14px\;"><span style="font-family:arial\;">4:00 &ndash\; 5:00 PM: Registration for bike tour participants at Cycle Whistler</span></span></li>\n	<li><span style="font-size:14px\;"><span style="font-family:arial\;">4:30 &ndash\; 5:30 PM: Stop at Nicklaus North Golf Club (refreshments + putting challenge)</span></span></li>\n	<li><span style="font-size:14px\;"><span style="font-family:arial\;">5:15 &ndash\; 8:00 PM: Registration at Hilton Whistler (for non-cyclists)</span></span></li>\n	<li><span style="font-size:14px\;"><span style="font-family:arial\;">5:30 &ndash\; 8:00 PM: Apr&egrave\;s party at the Hilton Whistler Resort &amp\; Spa (open to all guests\, bike storage available onsite)</span></span></li>\n</ul>\n\n<p><span style="font-size:14px\;"><span style="font-family:arial\;"><strong>This is a special extended Apr&egrave\;s\, running until 8:00 PM</strong>. Don&rsquo\;t miss this opportunity to build connections\, celebrate community\, and toast to Bike to Work Day &mdash\; all while enjoying the best of Whistler by bike!<br />\n<br />\n<span style="font-size:12px\;"><em>*event agenda and details subject to change</em></span></span></span><br />\n<br />\n<span style="font-size:14px\;"><span style="font-family:arial\;">Learn more about Cycle Whistler <a href="https://cyclewhistler.ca/" target="_blank">here &gt\;&gt\;&gt\;</a></span></span><br />\n<br />\n<strong><em><span style="font-size:14px\;"><span style="font-family:arial\;">Bike rental: 17 bikes available for rent\, so get in quick!<br />\n<br />\nCapacity: 50 (spaces are limited so\, don&#39\;t miss out and&nbsp\;book today!)</span></span></em></strong></p>\n\n<div align="center" style="text-align: center\;">\n<hr align="center" size="3" width="100%" /></div>\n\n<p data-end="961" data-start="796"><br />\n<strong><span style="font-size: 14px\;"><span style="font-family: arial\;">Are you interested in hosting a Chamber Apr&egrave\;s in the next season? Find out more at our&nbsp\;<a href="https://go.whistlerchamber.com/Apres" target="_blank">Chamber Apr&egrave\;s Networking Events Page</a></span></span></strong><br />\n&nbsp\;</p>\n\n<div align="center" style="text-align: center\;">\n<hr align="center" size="3" width="100%" /></div>\n\n<div style="font-size: 14px\;"><span style="font-size: 12px\;"><span style="font-family: arial\;"><em><strong>*Season Pass Terms &amp\; Conditions</strong></em></span></span></div>\n\n<ul style="font-size: 14px\;">\n	<li><span style="font-size: 12px\;"><span style="font-family: arial\;">Season Passes for the 2025/26 Apres Season are only available to members in good standing for the 2025/26 Whistler Chamber fiscal</span></span></li>\n	<li><span style="font-size: 12px\;"><span style="font-family: arial\;">Exclusive Member benefit\, available for purchase via the Ziptrek Chamber Apr&egrave\;s&nbsp\;event registration only (<a href="https://business.whistlerchamber.com/events/details/chamber-apres-zip-sip-socialize-with-ziptrek-ecotours-coast-mountain-brewing-2844">view here</a>)\, until September 9\, 2025\, or until sold out)</span></span></li>\n	<li><span style="font-size: 12px\;"><span style="font-family: arial\;">Pass holders are automatically added to each event in the series</span></span>\n	<ul>\n		<li><span style="font-size: 12px\;"><span style="font-family: arial\;">&#8203\;Each Season Pass includes one (1) ticket to each event in the 2025&ndash\;26 Season (ten events total\, pop-up events not included).</span></span></li>\n	</ul>\n	</li>\n	<li><span style="font-size: 12px\;"><span style="font-family: arial\;">Season Passes are non-refundable after September 9\, 2025.</span></span></li>\n	<li><span style="font-size: 12px\;"><span style="font-family: arial\;">Tickets may be transferred to another individual of your choice (inside or out of your organisation).</span></span></li>\n	<li><span style="font-size: 12px\;"><span style="font-family: arial\;">Season Pass tickets are non-transferable between events\, unless approved in writing by the Chamber at chamber@whistlerchamber.com no less than fourteen (14) business days prior to the scheduled event.</span></span></li>\n	<li><span style="font-size: 12px\;"><span style="font-family: arial\;">Tickets are not redeemable for cash or credit and cannot be carried over to another season or event.</span></span></li>\n</ul>\n\n<div style="font-size: 14px\;"><span style="font-size: 12px\;"><span style="font-family: arial\;"><strong><em>Cancellation Policy</em></strong></span></span></div>\n\n<ul style="font-size: 14px\;">\n	<li><span style="font-size: 12px\;"><span style="font-family: arial\;">Payment for single tickets is non-refundable for cancellations made within five (5) business days of the event or for non-attendance on the day.</span></span></li>\n	<li><span style="font-size: 12px\;"><span style="font-family: arial\;">If you have registered and paid for an event\, you will be automatically added to the attendance list.</span></span></li>\n	<li><span style="font-size: 12px\;"><span style="font-family: arial\;">Photographs taken at the event may be used in Whistler Chamber marketing and promotional materials.</span></span></li>\n</ul>\n\n<div align="center" style="text-align: center\;">\n<hr align="center" size="3" width="100%" /></div>\n\n<p data-end="236" data-start="200">&nbsp\;</p>\n<scribe-shadow data-crx="okfkdaglfjjjfefdcppliegebpoegaii" id="crxjs-ext" style="position: fixed\; width: 0px\; height: 0px\; top: 0px\; left: 0px\; z-index: 2147483647\; overflow: visible\; visibility: visible\;"></scribe-shadow>
LOCATION:Cycle Whistler (Whistler Village) Located in the Summit Lodge Boutique Hotel by Paradox 359 Main St\, Whistler\, BC V0N 1B4
UID:e.2416.2851
SEQUENCE:3
DTSTAMP:20260425T033455Z
URL:https://business.whistlerchamber.com/events/details/chamber-apres-bike-sip-celebrate-with-cycle-whistler-2851
END:VEVENT

END:VCALENDAR
